BEGIN:VCALENDAR
VERSION:2.0
PRODID:-//Projekty - ECPv6.15.20//NONSGML v1.0//EN
CALSCALE:GREGORIAN
METHOD:PUBLISH
X-ORIGINAL-URL:https://projekty.ug.edu.pl
X-WR-CALDESC:Wydarzenia dla Projekty
REFRESH-INTERVAL;VALUE=DURATION:PT1H
X-Robots-Tag:noindex
X-PUBLISHED-TTL:PT1H
BEGIN:VTIMEZONE
TZID:Europe/Warsaw
BEGIN:DAYLIGHT
TZOFFSETFROM:+0100
TZOFFSETTO:+0200
TZNAME:CEST
DTSTART:20240331T010000
END:DAYLIGHT
BEGIN:STANDARD
TZOFFSETFROM:+0200
TZOFFSETTO:+0100
TZNAME:CET
DTSTART:20241027T010000
END:STANDARD
BEGIN:DAYLIGHT
TZOFFSETFROM:+0100
TZOFFSETTO:+0200
TZNAME:CEST
DTSTART:20250330T010000
END:DAYLIGHT
BEGIN:STANDARD
TZOFFSETFROM:+0200
TZOFFSETTO:+0100
TZNAME:CET
DTSTART:20251026T010000
END:STANDARD
BEGIN:DAYLIGHT
TZOFFSETFROM:+0100
TZOFFSETTO:+0200
TZNAME:CEST
DTSTART:20260329T010000
END:DAYLIGHT
BEGIN:STANDARD
TZOFFSETFROM:+0200
TZOFFSETTO:+0100
TZNAME:CET
DTSTART:20261025T010000
END:STANDARD
END:VTIMEZONE
BEGIN:VEVENT
DTSTART;TZID=Europe/Warsaw:20250515T090000
DTEND;TZID=Europe/Warsaw:20250515T133000
DTSTAMP:20260420T022807
CREATED:20250428T144446Z
LAST-MODIFIED:20250428T144446Z
UID:3995-1747299600-1747315800@projekty.ug.edu.pl
SUMMARY:Szkolenie: Jak skutecznie wnioskować o granty Narodowego Centrum Nauki
DESCRIPTION:Biuro Wsparcia Przygotowania Projektów – Inkubator Projektowy serdecznie zaprasza do udziału w szkoleniu wspierającym kadrę naukową w procesie ubiegania się o finansowanie projektów badawczych. Wydarzenie\, organizowane we współpracy z Narodowym Centrum Nauki\, skierowane jest  do szerokiego grona odbiorców\, w tym pracowników naukowych\, doktorantów i studentów. \n📅 Data: 15 maja 2025 r.🕘 Godzina: 09:00–13:30📍 Miejsce: Wydział Matematyki\, Fizyki i Informatyki Uniwersytetu Gdańskiego (ul. Wita Stwosza 57\, 80-952 Gdańsk) \n🔗 Rejestracja do 14 maja 2025 r.: Formularz zgłoszeniowy \nPodczas spotkania przedstawione zostaną możliwości ubiegania się o dofinansowanie projektów badawczych w ramach konkursów Narodowego Centrum Nauki.Pan Tomasz Szumełda z NCN zaprezentuje wskazówki dotyczące przygotowania wniosków oraz omówi procedury oceny aplikacji. \nProgram szkolenia: \n9:30–10:15 Oferta konkursowa NCN \n\n\nKonkursy krajowe (szczegółowo: PRELUDIUM\, OPUS) \n\n\nKonkursy międzynarodowe \n\n\nOgraniczenia w składaniu wniosków \n\n\nDokumentacja konkursowa – gdzie szukać informacji? \n\n\n10:15–11:30 Konstrukcja wniosku \n\n\nOpis merytoryczny badań \n\n\nSylwetka kierownika projektu/opiekuna i kompetencje wykonawców \n\n\nKonstrukcja kosztorysu \n\n\nPrzerwa – 20 minut \n11:50–12:30 Procedura oceny wniosku \n\n\nOcena formalna \n\n\nOcena merytoryczna – kto ocenia wnioski? \n\n\nFormularz oceny \n\n\nOcena osiągnięć naukowych \n\n\nOcena kosztorysu \n\n\n12:30–12:45 Rozliczanie raportów końcowych \n\n\nKto i według jakich zasad ocenia raporty końcowe? \n\n\nPo każdej sesji przewidziano czas na pytania uczestników\, aby umożliwić pełniejsze zrozumienie omawianych zagadnień. \nUdział w szkoleniu jest bezpłatny\, jednak liczba miejsc jest ograniczona.Prosimy o wcześniejszą rejestrację za pomocą formularza: https://forms.office.com/e/1FQzxv8zQ0
URL:https://projekty.ug.edu.pl/event/szkolenie-jak-skutecznie-wnioskowac-o-granty-narodowego-centrum-nauki/
LOCATION:Wydział Matematyki\, Fizyki i Informatyki Uniwersytetu Gdańskiego\, ul. Wita Stwosza 57\, Gdańsk\, 80-952\, Poland
ATTACH;FMTTYPE=image/jpeg:https://projekty.ug.edu.pl/wp-content/uploads/2025/04/NCN-1.jpg
ORGANIZER;CN="Biuro Wsparcia Przygotowania Projekt%C3%B3w %E2%80%93 Inkubator Projektowy":MAILTO:projekty@ug.edu.pl
END:VEVENT
END:VCALENDAR